BEGIN:VCALENDAR
VERSION:2.0
PRODID:-//Hill City Master Gardener Association - ECPv6.15.20//NONSGML v1.0//EN
CALSCALE:GREGORIAN
METHOD:PUBLISH
X-WR-CALNAME:Hill City Master Gardener Association
X-ORIGINAL-URL:https://www.hcmga.com
X-WR-CALDESC:Events for Hill City Master Gardener Association
REFRESH-INTERVAL;VALUE=DURATION:PT1H
X-Robots-Tag:noindex
X-PUBLISHED-TTL:PT1H
BEGIN:VTIMEZONE
TZID:America/New_York
BEGIN:DAYLIGHT
TZOFFSETFROM:-0500
TZOFFSETTO:-0400
TZNAME:EDT
DTSTART:20250309T070000
END:DAYLIGHT
BEGIN:STANDARD
TZOFFSETFROM:-0400
TZOFFSETTO:-0500
TZNAME:EST
DTSTART:20251102T060000
END:STANDARD
BEGIN:DAYLIGHT
TZOFFSETFROM:-0500
TZOFFSETTO:-0400
TZNAME:EDT
DTSTART:20260308T070000
END:DAYLIGHT
BEGIN:STANDARD
TZOFFSETFROM:-0400
TZOFFSETTO:-0500
TZNAME:EST
DTSTART:20261101T060000
END:STANDARD
BEGIN:DAYLIGHT
TZOFFSETFROM:-0500
TZOFFSETTO:-0400
TZNAME:EDT
DTSTART:20270314T070000
END:DAYLIGHT
BEGIN:STANDARD
TZOFFSETFROM:-0400
TZOFFSETTO:-0500
TZNAME:EST
DTSTART:20271107T060000
END:STANDARD
END:VTIMEZONE
BEGIN:VEVENT
DTSTART;TZID=America/New_York:20260502T090000
DTEND;TZID=America/New_York:20260502T130000
DTSTAMP:20260423T061747
CREATED:20251014T235319Z
LAST-MODIFIED:20251014T235319Z
UID:4670-1777712400-1777726800@www.hcmga.com
SUMMARY:Festival of Gardening Annual Plant Sale
DESCRIPTION:HCMGA’s annual plant sale\, held at E.C. Glass High School on the lawn. Shop for tomatoes\, vegetables\, annuals perennials\, native plants\, houseplants\, trees and shrubs\, groundcovers\, herbs\, all at great prices\, grown or divided by Master Gardeners.
URL:https://www.hcmga.com/event/festival-of-gardening-annual-plant-sale/
LOCATION:VA
CATEGORIES:Community events
END:VEVENT
BEGIN:VEVENT
DTSTART;TZID=America/New_York:20260515T100000
DTEND;TZID=America/New_York:20260515T130000
DTSTAMP:20260423T061747
CREATED:20260311T023444Z
LAST-MODIFIED:20260311T023541Z
UID:5446-1778839200-1778850000@www.hcmga.com
SUMMARY:Field trip to Poplar Forest
DESCRIPTION:Content is protected.
URL:https://www.hcmga.com/event/5446/
LOCATION:Poplar Forest
CATEGORIES:Member Only Events
END:VEVENT
END:VCALENDAR